BEGIN:VCALENDAR
VERSION:2.0
PRODID:-//www.inreachinc.org//NONSGML kigkonsult.se iCalcreator 2.30.10//
CALSCALE:GREGORIAN
METHOD:PUBLISH
UID:cbf94c85-8861-4803-b842-ed17f04459eb
X-WR-CALDESC:Visit your local library online or in-person to see what's new
  and take part in the celebration. Libraries across the country are partic
 ipating.  Do you have friends who don't have library cards? Invite them to
  sign up during September. While you are here\, check out some of our reco
 mmended readings and\, then\, use your new library card to check one or mo
 re out.
X-WR-RELCALID:6a39e5a50bb0364d19859ea182c1ff59
X-WR-TIMEZONE:America/New_York
BEGIN:VTIMEZONE
TZID:America/New_York
BEGIN:STANDARD
TZNAME:EST
DTSTART:20201101T020000
TZOFFSETFROM:-0400
TZOFFSETTO:-0500
RDATE:20211107T020000
RDATE:20221106T020000
END:STANDARD
BEGIN:DAYLIGHT
TZNAME:EDT
DTSTART:20210314T020000
TZOFFSETFROM:-0500
TZOFFSETTO:-0400
RDATE:20220313T020000
END:DAYLIGHT
END:VTIMEZONE
BEGIN:VEVENT
UID:e4667c8c-de0b-4140-8d66-b1bff5c857ac
DTSTAMP:20260420T084328Z
DESCRIPTION:Visit your local library online or in-person to see what's new 
 and take part in the celebration. Libraries across the country are partici
 pating.  Do you have friends who don't have library cards? Invite them to 
 sign up during September. While you are here\, check out some of our recom
 mended readings and\, then\, use your new library card to check one or mor
 e out.
DTSTART;TZID=America/New_York:20210901T000000
DTEND;TZID=America/New_York:20210901T235900
LOCATION:
SUMMARY:Library Card Sign-Up Month
END:VEVENT
END:VCALENDAR
