BEGIN:VCALENDAR
VERSION:2.0
PRODID:-//www.inreachinc.org//NONSGML kigkonsult.se iCalcreator 2.30.10//
CALSCALE:GREGORIAN
METHOD:PUBLISH
UID:39c9f101-ec78-466a-b70f-3ca7ea705275
X-WR-CALDESC:In these extraordinary times\, The Association for the Study o
 f African American Life and History recognizes that we need each other now
  more than ever. With the limitations of the worldwide pandemic in mind\, 
 the 106th Conference is virtual.
X-WR-RELCALID:02426469842ec4af5613df59eaf0ba8e
X-WR-TIMEZONE:America/New_York
BEGIN:VTIMEZONE
TZID:America/New_York
BEGIN:STANDARD
TZNAME:EST
DTSTART:20201101T020000
TZOFFSETFROM:-0400
TZOFFSETTO:-0500
RDATE:20211107T020000
RDATE:20221106T020000
END:STANDARD
BEGIN:DAYLIGHT
TZNAME:EDT
DTSTART:20210314T020000
TZOFFSETFROM:-0500
TZOFFSETTO:-0400
RDATE:20220313T020000
RDATE:20230312T020000
END:DAYLIGHT
END:VTIMEZONE
BEGIN:VEVENT
UID:77186c4e-aa9d-40f1-86e6-a233436dbb46
DTSTAMP:20260420T084809Z
DESCRIPTION:In these extraordinary times\, The Association for the Study of
  African American Life and History recognizes that we need each other now 
 more than ever. With the limitations of the worldwide pandemic in mind\, t
 he 106th Conference is virtual.
DTSTART;TZID=America/New_York:20210914T123000
DTEND;TZID=America/New_York:20210930T180000
LOCATION:
SUMMARY:Annual ASALH Conference
END:VEVENT
END:VCALENDAR
