BEGIN:VCALENDAR
VERSION:2.0
PRODID:-//www.inreachinc.org//NONSGML kigkonsult.se iCalcreator 2.30.10//
CALSCALE:GREGORIAN
METHOD:PUBLISH
UID:177c9c32-3cf2-457a-b645-46f39b9427d4
X-WR-CALDESC:Honorée Fanonne Jeffers\, author of 'The Love Songs of W.E.B. 
 Du Bois' (Harper\, 2021) and 'The Age of Phillis' (Wesleyan University Pre
 ss\, 2020) in conversation with Kerry Sinanan\, Assistant Professor of Eng
 lish\, University of Texas-San Antonio. Co-presented with the University o
 f Maryland Center for Literary and Comparative Studies\, 'Antiracism: Comm
 unities + Collaborations'
X-WR-RELCALID:ccae29b85a4bcf78c81e8552a31b03f8
X-WR-TIMEZONE:America/New_York
BEGIN:VTIMEZONE
TZID:America/New_York
BEGIN:STANDARD
TZNAME:EST
DTSTART:20201101T020000
TZOFFSETFROM:-0400
TZOFFSETTO:-0500
RDATE:20211107T020000
RDATE:20221106T020000
END:STANDARD
BEGIN:DAYLIGHT
TZNAME:EDT
DTSTART:20210314T020000
TZOFFSETFROM:-0500
TZOFFSETTO:-0400
RDATE:20220313T020000
RDATE:20230312T020000
END:DAYLIGHT
END:VTIMEZONE
BEGIN:VEVENT
UID:737e2727-f861-4030-ad13-55b990033b84
DTSTAMP:20260420T085100Z
DESCRIPTION:Honorée Fanonne Jeffers\, author of 'The Love Songs of W.E.B. D
 u Bois' (Harper\, 2021) and 'The Age of Phillis' (Wesleyan University Pres
 s\, 2020) in conversation with Kerry Sinanan\, Assistant Professor of Engl
 ish\, University of Texas-San Antonio. Co-presented with the University of
  Maryland Center for Literary and Comparative Studies\, 'Antiracism: Commu
 nities + Collaborations'
DTSTART;TZID=America/New_York:20210920T120000
DTEND;TZID=America/New_York:20210920T130000
LOCATION:https://www.pgcmls.info/event/5409136
SUMMARY:Honorée Fanonne Jeffers in Conversation
END:VEVENT
END:VCALENDAR
