BEGIN:VCALENDAR
VERSION:2.0
PRODID:-//www.inreachinc.org//NONSGML kigkonsult.se iCalcreator 2.30.10//
CALSCALE:GREGORIAN
METHOD:PUBLISH
UID:df7b6cea-4006-41c7-a238-1a172dd1d174
X-WR-CALDESC:In this ‘next normal’\, what will the workplace look like for 
 employees\, including those with disabilities?\n\nJoin the National Organi
 zation on Disabilities' largest event of the year where c-suite executives
  and civic officials will share their leadership lessons from this pandemi
 c and discuss what’s next for tomorrow’s workplace.
X-WR-RELCALID:a4a55706873826a62eb06b089117015b
X-WR-TIMEZONE:America/New_York
BEGIN:VTIMEZONE
TZID:America/New_York
BEGIN:STANDARD
TZNAME:EST
DTSTART:20201101T020000
TZOFFSETFROM:-0400
TZOFFSETTO:-0500
RDATE:20211107T020000
RDATE:20221106T020000
END:STANDARD
BEGIN:DAYLIGHT
TZNAME:EDT
DTSTART:20210314T020000
TZOFFSETFROM:-0500
TZOFFSETTO:-0400
RDATE:20220313T020000
RDATE:20230312T020000
END:DAYLIGHT
END:VTIMEZONE
BEGIN:VEVENT
UID:1a4fee24-1378-4cd6-9148-3ccd733f1f99
DTSTAMP:20260420T084904Z
DESCRIPTION:In this ‘next normal’\, what will the workplace look like for e
 mployees\, including those with disabilities?\n\nJoin the National Organiz
 ation on Disabilities' largest event of the year where c-suite executives 
 and civic officials will share their leadership lessons from this pandemic
  and discuss what’s next for tomorrow’s workplace.
DTSTART;TZID=America/New_York:20210930T150000
DTEND;TZID=America/New_York:20210930T170000
LOCATION:https://www.nod.org/events/2021-nod-annual-forum/
SUMMARY:2021 NOD Annual Forum: Disability Inclusion in the Next Normal
END:VEVENT
END:VCALENDAR
