BEGIN:VCALENDAR
VERSION:2.0
PRODID:-//www.inreachinc.org//NONSGML kigkonsult.se iCalcreator 2.30.10//
CALSCALE:GREGORIAN
METHOD:PUBLISH
UID:980ebc2a-2227-4cc4-96d5-c7a174b6c22a
X-WR-CALDESC:Organizations in the United States use this month to inform th
 e public about learning disabilities through events and proclamations. LD 
 Awareness Month is celebrated in many states\, often coordinated through e
 ach state's Learning Disabilities Association of America office.
X-WR-RELCALID:3945c3a5401cc80b2f7f68b894e368f1
X-WR-TIMEZONE:America/New_York
BEGIN:VTIMEZONE
TZID:America/New_York
BEGIN:STANDARD
TZNAME:EST
DTSTART:20201101T020000
TZOFFSETFROM:-0400
TZOFFSETTO:-0500
RDATE:20211107T020000
RDATE:20221106T020000
END:STANDARD
BEGIN:DAYLIGHT
TZNAME:EDT
DTSTART:20210314T020000
TZOFFSETFROM:-0500
TZOFFSETTO:-0400
RDATE:20220313T020000
RDATE:20230312T020000
END:DAYLIGHT
END:VTIMEZONE
BEGIN:VEVENT
UID:c8f8fc8f-fd48-44db-b257-bf708cdfb251
DTSTAMP:20260420T102654Z
DESCRIPTION:Organizations in the United States use this month to inform the
  public about learning disabilities through events and proclamations. LD A
 wareness Month is celebrated in many states\, often coordinated through ea
 ch state's Learning Disabilities Association of America office.
DTSTART;TZID=America/New_York:20211001T000000
DTEND;TZID=America/New_York:20211001T235900
LOCATION:
SUMMARY:Learning Disabilities and Dyslexia Awareness Month
END:VEVENT
END:VCALENDAR
