BEGIN:VCALENDAR
VERSION:2.0
PRODID:-//www.inreachinc.org//NONSGML kigkonsult.se iCalcreator 2.30.10//
CALSCALE:GREGORIAN
METHOD:PUBLISH
UID:2ae3538a-252a-4463-a782-937bd0dfcde1
X-WR-CALDESC:Not In Our School is excited to present their first BULLYING P
 REVENTION MONTH ONLINE FILM FESTIVAL!\n\nEach day in October a new short f
 ilm will be launched about standing up to bullying and intolerance. The fe
 stival includes a range of films that showcase the incredible energy and e
 nthusiasm of young people taking a stand against bullying\, anti-gay bigot
 ry\, and all forms of hate.  Watch and share!
X-WR-RELCALID:d98cb630ea4f4ea51379c043212812d8
X-WR-TIMEZONE:America/New_York
BEGIN:VTIMEZONE
TZID:America/New_York
BEGIN:STANDARD
TZNAME:EST
DTSTART:20201101T020000
TZOFFSETFROM:-0400
TZOFFSETTO:-0500
RDATE:20211107T020000
RDATE:20221106T020000
END:STANDARD
BEGIN:DAYLIGHT
TZNAME:EDT
DTSTART:20210314T020000
TZOFFSETFROM:-0500
TZOFFSETTO:-0400
RDATE:20220313T020000
RDATE:20230312T020000
END:DAYLIGHT
END:VTIMEZONE
BEGIN:VEVENT
UID:ece9d5b3-69ad-4127-9596-493224bfb640
DTSTAMP:20260422T084431Z
DESCRIPTION:Not In Our School is excited to present their first BULLYING PR
 EVENTION MONTH ONLINE FILM FESTIVAL!\n\nEach day in October a new short fi
 lm will be launched about standing up to bullying and intolerance. The fes
 tival includes a range of films that showcase the incredible energy and en
 thusiasm of young people taking a stand against bullying\, anti-gay bigotr
 y\, and all forms of hate.  Watch and share!
DTSTART;TZID=America/New_York:20211002T000000
DTEND;TZID=America/New_York:20211002T235900
LOCATION:https://www.niot.org/nios-october-film-festival
SUMMARY:Bullying Prevention Month Anti Bullying Film Festival
END:VEVENT
END:VCALENDAR
