BEGIN:VCALENDAR
VERSION:2.0
PRODID:-//www.inreachinc.org//NONSGML kigkonsult.se iCalcreator 2.30.10//
CALSCALE:GREGORIAN
METHOD:PUBLISH
UID:54e9492b-9599-44d2-a6e6-54d152385fc9
X-WR-CALDESC:National School Lunch Week (NSLW) is a weeklong celebration fr
 om October 11-15\, 2021 of the federal National School Lunch Program\, whi
 ch provides low-income children with a nutritious meal each school day.
X-WR-RELCALID:f8b6d3c3f47501d655e517be24b31492
X-WR-TIMEZONE:America/New_York
BEGIN:VTIMEZONE
TZID:America/New_York
BEGIN:STANDARD
TZNAME:EST
DTSTART:20201101T020000
TZOFFSETFROM:-0400
TZOFFSETTO:-0500
RDATE:20211107T020000
RDATE:20221106T020000
END:STANDARD
BEGIN:DAYLIGHT
TZNAME:EDT
DTSTART:20210314T020000
TZOFFSETFROM:-0500
TZOFFSETTO:-0400
RDATE:20220313T020000
RDATE:20230312T020000
END:DAYLIGHT
END:VTIMEZONE
BEGIN:VEVENT
UID:98cd3019-3345-4d29-8077-21e1529fb0ff
DTSTAMP:20260420T095541Z
DESCRIPTION:National School Lunch Week (NSLW) is a weeklong celebration fro
 m October 11-15\, 2021 of the federal National School Lunch Program\, whic
 h provides low-income children with a nutritious meal each school day.
DTSTART;TZID=America/New_York:20211011T000000
DTEND;TZID=America/New_York:20211015T235900
LOCATION:https://schoolnutrition.org/
SUMMARY:National School Lunch Week
END:VEVENT
END:VCALENDAR
