BEGIN:VCALENDAR
VERSION:2.0
PRODID:-//www.inreachinc.org//NONSGML kigkonsult.se iCalcreator 2.30.10//
CALSCALE:GREGORIAN
METHOD:PUBLISH
UID:53fdb791-ee6e-4567-a429-97c989eab100
X-WR-CALDESC:On this day\, Jupiter Hammon\, the first African American to p
 ublish poetry in the United States\, was born in Long Island\, New York\, 
 in 1711. In honor of Hammon's birth\, the contributions of all African Ame
 ricans to the world of poetry are celebrated today.
X-WR-RELCALID:d3db35067f2e52e3b5ecb9c20e877e1e
X-WR-TIMEZONE:America/New_York
BEGIN:VTIMEZONE
TZID:America/New_York
BEGIN:STANDARD
TZNAME:EST
DTSTART:20201101T020000
TZOFFSETFROM:-0400
TZOFFSETTO:-0500
RDATE:20211107T020000
RDATE:20221106T020000
END:STANDARD
BEGIN:DAYLIGHT
TZNAME:EDT
DTSTART:20210314T020000
TZOFFSETFROM:-0500
TZOFFSETTO:-0400
RDATE:20220313T020000
RDATE:20230312T020000
END:DAYLIGHT
END:VTIMEZONE
BEGIN:VEVENT
UID:f1ccaa43-708d-42fd-98af-98db55124cb7
DTSTAMP:20260423T203631Z
DESCRIPTION:On this day\, Jupiter Hammon\, the first African American to pu
 blish poetry in the United States\, was born in Long Island\, New York\, i
 n 1711. In honor of Hammon's birth\, the contributions of all African Amer
 icans to the world of poetry are celebrated today.
DTSTART;TZID=America/New_York:20211017T000000
DTEND;TZID=America/New_York:20211017T235900
LOCATION:https://www.readpoetry.com/celebrate-black-poetry-day-with-200-yea
 rs-of-world-changing-black-poets/
SUMMARY:National Black Poets Day
END:VEVENT
END:VCALENDAR
