BEGIN:VCALENDAR
VERSION:2.0
PRODID:-//www.inreachinc.org//NONSGML kigkonsult.se iCalcreator 2.30.10//
CALSCALE:GREGORIAN
METHOD:PUBLISH
UID:c11f34cb-8d9c-4018-9e44-f9ab6980aaa7
X-WR-CALDESC:Since 1995\, the Society for Public Health Education (SOPHE) h
 as celebrated National Health Education Week (NHEW) during the third week 
 of October. NHEW is focused on increasing national awareness of major publ
 ic health issues and promoting a better understanding of the role of healt
 h education. Join SOPHE\, its chapters\, members\, and partners this Octob
 er for events\, webinars\, and activities across the country.
X-WR-RELCALID:5173c57f60a2632aaae7d2f1b53fa250
X-WR-TIMEZONE:America/New_York
BEGIN:VTIMEZONE
TZID:America/New_York
BEGIN:STANDARD
TZNAME:EST
DTSTART:20201101T020000
TZOFFSETFROM:-0400
TZOFFSETTO:-0500
RDATE:20211107T020000
RDATE:20221106T020000
END:STANDARD
BEGIN:DAYLIGHT
TZNAME:EDT
DTSTART:20210314T020000
TZOFFSETFROM:-0500
TZOFFSETTO:-0400
RDATE:20220313T020000
RDATE:20230312T020000
END:DAYLIGHT
END:VTIMEZONE
BEGIN:VEVENT
UID:9b3005b4-e84b-497b-a2c1-3f96f0f3696c
DTSTAMP:20260422T141112Z
DESCRIPTION:Since 1995\, the Society for Public Health Education (SOPHE) ha
 s celebrated National Health Education Week (NHEW) during the third week o
 f October. NHEW is focused on increasing national awareness of major publi
 c health issues and promoting a better understanding of the role of health
  education. Join SOPHE\, its chapters\, members\, and partners this Octobe
 r for events\, webinars\, and activities across the country.
DTSTART;TZID=America/New_York:20211018T000000
DTEND;TZID=America/New_York:20211022T235900
LOCATION:https://www.sophe.org/focus-areas/national-health-education-week/s
 ocial-media-toolkit/
SUMMARY:National Health Education Week
END:VEVENT
END:VCALENDAR
