BEGIN:VCALENDAR
VERSION:2.0
PRODID:-//www.inreachinc.org//NONSGML kigkonsult.se iCalcreator 2.30.10//
CALSCALE:GREGORIAN
METHOD:PUBLISH
UID:f88d1c46-2ab9-494b-a5f6-a2e36d75b11f
X-WR-CALDESC:Join more than 8\,000 communities and 1 million Americans in c
 elebrating afterschool programs for this year's Lights On Afterschool! Thi
 s nationwide event\, organized by the Afterschool Alliance\, calls attenti
 on to the importance of afterschool programs and the resources required to
  keep the lights on and the doors open. \n\nMore to come from In Reach\, I
 nc. on how we have celebrated over the years. \n\n
X-WR-RELCALID:210373f0bee99ddc76a17b4eb9a83b12
X-WR-TIMEZONE:America/New_York
BEGIN:VTIMEZONE
TZID:America/New_York
BEGIN:STANDARD
TZNAME:EST
DTSTART:20201101T020000
TZOFFSETFROM:-0400
TZOFFSETTO:-0500
RDATE:20211107T020000
RDATE:20221106T020000
END:STANDARD
BEGIN:DAYLIGHT
TZNAME:EDT
DTSTART:20210314T020000
TZOFFSETFROM:-0500
TZOFFSETTO:-0400
RDATE:20220313T020000
RDATE:20230312T020000
END:DAYLIGHT
END:VTIMEZONE
BEGIN:VEVENT
UID:ee123df5-f372-4333-a2a4-f1eea308b6a5
DTSTAMP:20260420T095541Z
DESCRIPTION:Join more than 8\,000 communities and 1 million Americans in ce
 lebrating afterschool programs for this year's Lights On Afterschool! This
  nationwide event\, organized by the Afterschool Alliance\, calls attentio
 n to the importance of afterschool programs and the resources required to 
 keep the lights on and the doors open. \n\nMore to come from In Reach\, In
 c. on how we have celebrated over the years. \n\n
DTSTART;TZID=America/New_York:20211028T000000
DTEND;TZID=America/New_York:20211028T235900
LOCATION:
SUMMARY:22nd annual Lights On Afterschool Celebration
END:VEVENT
END:VCALENDAR
