BEGIN:VCALENDAR
VERSION:2.0
PRODID:-//www.inreachinc.org//NONSGML kigkonsult.se iCalcreator 2.30.10//
CALSCALE:GREGORIAN
METHOD:PUBLISH
UID:704cf715-9b43-4367-8048-0b260184253d
X-WR-CALDESC:This October\, Well-Read Black Girl is celebrating its fifth y
 ear of gathering at the annual Well-Read Black Girl Festival\, learning to
 gether\, laughing together\, and uplifting the incredible voices that comp
 rise the community.
X-WR-RELCALID:a8f5ec60fdf55cad0cc2e17aa0a45f32
X-WR-TIMEZONE:America/New_York
BEGIN:VTIMEZONE
TZID:America/New_York
BEGIN:STANDARD
TZNAME:EST
DTSTART:20201101T020000
TZOFFSETFROM:-0400
TZOFFSETTO:-0500
RDATE:20211107T020000
RDATE:20221106T020000
END:STANDARD
BEGIN:DAYLIGHT
TZNAME:EDT
DTSTART:20210314T020000
TZOFFSETFROM:-0500
TZOFFSETTO:-0400
RDATE:20220313T020000
RDATE:20230312T020000
END:DAYLIGHT
END:VTIMEZONE
BEGIN:VEVENT
UID:23ac4ffe-91ec-4aab-95d0-44bc43237dd7
DTSTAMP:20260422T103044Z
DESCRIPTION:This October\, Well-Read Black Girl is celebrating its fifth ye
 ar of gathering at the annual Well-Read Black Girl Festival\, learning tog
 ether\, laughing together\, and uplifting the incredible voices that compr
 ise the community.
DTSTART;TZID=America/New_York:20211030T000000
DTEND;TZID=America/New_York:20211030T235900
LOCATION:https://www.wellreadblackgirl.org/
SUMMARY:Well-Read Black Girl Annual Festival
END:VEVENT
END:VCALENDAR
