BEGIN:VCALENDAR
VERSION:2.0
PRODID:-//www.inreachinc.org//NONSGML kigkonsult.se iCalcreator 2.30.10//
CALSCALE:GREGORIAN
METHOD:PUBLISH
UID:8fc21f99-c485-447e-83b2-e223bfb8d665
X-WR-CALDESC:The aim of this nationwide initiative is to encourage families
  to designate a special time to 'drop everything and read' at home. So\, o
 n April 12\, families will be encouraged to take at least 30 minutes to pu
 t aside all distractions and enjoy books together.\n\nCheck your local lib
 rary for events.
X-WR-RELCALID:ace57f3a846f512b8338460cd98065e4
X-WR-TIMEZONE:America/New_York
BEGIN:VTIMEZONE
TZID:America/New_York
BEGIN:STANDARD
TZNAME:EST
DTSTART:20211107T020000
TZOFFSETFROM:-0400
TZOFFSETTO:-0500
RDATE:20221106T020000
END:STANDARD
BEGIN:DAYLIGHT
TZNAME:EDT
DTSTART:20220313T020000
TZOFFSETFROM:-0500
TZOFFSETTO:-0400
RDATE:20230312T020000
END:DAYLIGHT
END:VTIMEZONE
BEGIN:VEVENT
UID:12d7d4f3-2cec-4f34-b708-f3e85d95d38a
DTSTAMP:20260420T111148Z
DESCRIPTION:The aim of this nationwide initiative is to encourage families 
 to designate a special time to 'drop everything and read' at home. So\, on
  April 12\, families will be encouraged to take at least 30 minutes to put
  aside all distractions and enjoy books together.\n\nCheck your local libr
 ary for events.
DTSTART;TZID=America/New_York:20220412T000000
DTEND;TZID=America/New_York:20220412T235900
LOCATION:
SUMMARY:Drop Everything and Read Day (D.E.A.R. Day)
END:VEVENT
END:VCALENDAR
