BEGIN:VCALENDAR
VERSION:2.0
PRODID:-//www.inreachinc.org//NONSGML kigkonsult.se iCalcreator 2.30.10//
CALSCALE:GREGORIAN
METHOD:PUBLISH
UID:a12fdf3e-b392-48c9-961c-d8f3cc60f8ec
X-WR-CALDESC:Children's Mental Health Awareness Week -- held every year dur
 ing the first week of May (National Mental Health Awareness Month) -- is a
  national campaign that raises awareness and funds to promote better menta
 l health for children.\n\n#CMHMMaryland #CMHM #mentalhealth
X-WR-RELCALID:5201fdb4dac26cf7ab2cd1659da4c6f3
X-WR-TIMEZONE:America/New_York
BEGIN:VTIMEZONE
TZID:America/New_York
BEGIN:STANDARD
TZNAME:EST
DTSTART:20211107T020000
TZOFFSETFROM:-0400
TZOFFSETTO:-0500
RDATE:20221106T020000
END:STANDARD
BEGIN:DAYLIGHT
TZNAME:EDT
DTSTART:20220313T020000
TZOFFSETFROM:-0500
TZOFFSETTO:-0400
RDATE:20230312T020000
END:DAYLIGHT
END:VTIMEZONE
BEGIN:VEVENT
UID:6e57fced-8c1d-4ac9-92ae-f4f5d9a37376
DTSTAMP:20260420T102200Z
DESCRIPTION:Children's Mental Health Awareness Week -- held every year duri
 ng the first week of May (National Mental Health Awareness Month) -- is a 
 national campaign that raises awareness and funds to promote better mental
  health for children.\n\n#CMHMMaryland #CMHM #mentalhealth
DTSTART;TZID=America/New_York:20220501T000000
DTEND;TZID=America/New_York:20220507T235900
LOCATION:
SUMMARY:Child Mental Health Matters Awareness Week
END:VEVENT
END:VCALENDAR
