BEGIN:VCALENDAR
VERSION:2.0
PRODID:-//www.inreachinc.org//NONSGML kigkonsult.se iCalcreator 2.30.10//
CALSCALE:GREGORIAN
METHOD:PUBLISH
UID:7c9b8761-84b3-47eb-99e2-86b76a1ef536
X-WR-CALDESC:World Environment Day (WED) is one of the more unique and spec
 ial holidays because of its history and its many firsts. It was created on
  the first day of the first-ever U.N. conference which focused on humans a
 nd how they interact with the environment.\n\nJust in time\, watch In Reac
 h's Teens Talk Television episode on The Environment and check out all of 
 the wonderful resources available. \n\n#worldenvironmentday #onlyoneearth 
 #environment
X-WR-RELCALID:aba6eed1672c03ae530e90ccde88f6f1
X-WR-TIMEZONE:America/New_York
BEGIN:VTIMEZONE
TZID:America/New_York
BEGIN:STANDARD
TZNAME:EST
DTSTART:20211107T020000
TZOFFSETFROM:-0400
TZOFFSETTO:-0500
RDATE:20221106T020000
RDATE:20231105T020000
END:STANDARD
BEGIN:DAYLIGHT
TZNAME:EDT
DTSTART:20220313T020000
TZOFFSETFROM:-0500
TZOFFSETTO:-0400
RDATE:20230312T020000
END:DAYLIGHT
END:VTIMEZONE
BEGIN:VEVENT
UID:2af95d4a-25e5-42b9-847f-a82489ee4162
DTSTAMP:20260420T084144Z
DESCRIPTION:World Environment Day (WED) is one of the more unique and speci
 al holidays because of its history and its many firsts. It was created on 
 the first day of the first-ever U.N. conference which focused on humans an
 d how they interact with the environment.\n\nJust in time\, watch In Reach
 's Teens Talk Television episode on The Environment and check out all of t
 he wonderful resources available. \n\n#worldenvironmentday #onlyoneearth #
 environment
DTSTART;TZID=America/New_York:20220605T000000
DTEND;TZID=America/New_York:20220605T235900
LOCATION:
SUMMARY:World Environment Day
END:VEVENT
END:VCALENDAR
