BEGIN:VCALENDAR
VERSION:2.0
PRODID:-//www.inreachinc.org//NONSGML kigkonsult.se iCalcreator 2.30.10//
CALSCALE:GREGORIAN
METHOD:PUBLISH
UID:2be8408e-ae26-4010-a53c-61f3360237cf
X-WR-CALDESC:
X-WR-RELCALID:57594517c8c6d79787b2994d98863a73
X-WR-TIMEZONE:America/New_York
BEGIN:VTIMEZONE
TZID:America/New_York
BEGIN:STANDARD
TZNAME:EST
DTSTART:20221106T020000
TZOFFSETFROM:-0400
TZOFFSETTO:-0500
RDATE:20231105T020000
END:STANDARD
BEGIN:DAYLIGHT
TZNAME:EDT
DTSTART:20220313T020000
TZOFFSETFROM:-0500
TZOFFSETTO:-0400
RDATE:20230312T020000
RDATE:20240310T020000
END:DAYLIGHT
END:VTIMEZONE
BEGIN:VEVENT
UID:30f10e53-12cb-436c-b492-d570707ceb72
DTSTAMP:20260424T200536Z
DESCRIPTION:
DTSTART;TZID=America/New_York:20230125T000000
DTEND;TZID=America/New_York:20230127T235900
LOCATION:
SUMMARY:13th Annual National Mentoring Summit
END:VEVENT
END:VCALENDAR
