BEGIN:VCALENDAR
VERSION:2.0
PRODID:-//www.inreachinc.org//NONSGML kigkonsult.se iCalcreator 2.30.10//
CALSCALE:GREGORIAN
METHOD:PUBLISH
UID:93c4f546-a2cf-4948-912b-0bdb4bcc43e0
X-WR-CALDESC:2024 Week of Action - There is an activity for each night incl
 uding a student creative challenge\, a curriculum resource guide\, and inf
 ormation on how to purchase a commemorative t-shirt.
X-WR-RELCALID:c38e3926dcd23dffab3dd9262b1c3d47
X-WR-TIMEZONE:America/New_York
BEGIN:VTIMEZONE
TZID:America/New_York
BEGIN:STANDARD
TZNAME:EST
DTSTART:20221106T020000
TZOFFSETFROM:-0400
TZOFFSETTO:-0500
RDATE:20231105T020000
END:STANDARD
BEGIN:DAYLIGHT
TZNAME:EDT
DTSTART:20220313T020000
TZOFFSETFROM:-0500
TZOFFSETTO:-0400
RDATE:20230312T020000
RDATE:20240310T020000
END:DAYLIGHT
END:VTIMEZONE
BEGIN:VEVENT
UID:add4c177-ecb8-43c5-aad6-ba9b2f6c74aa
DTSTAMP:20260420T141654Z
DESCRIPTION:2024 Week of Action - There is an activity for each night inclu
 ding a student creative challenge\, a curriculum resource guide\, and info
 rmation on how to purchase a commemorative t-shirt.
DTSTART;TZID=America/New_York:20230205T000000
DTEND;TZID=America/New_York:20230209T235900
LOCATION:
SUMMARY:National Black Lives Matter At School Week
END:VEVENT
END:VCALENDAR
