BEGIN:VCALENDAR
VERSION:2.0
PRODID:-//www.inreachinc.org//NONSGML kigkonsult.se iCalcreator 2.30.10//
CALSCALE:GREGORIAN
METHOD:PUBLISH
UID:9e81a35d-2535-44dd-8994-33e37202707e
X-WR-CALDESC:Join the National Women's History Alliance for a virtual celeb
 ration of the the diversity and power of Black women\, and the legacy they
  are leaving for generations to come.
X-WR-RELCALID:22186753705ad5020c0fce5f196d3af2
X-WR-TIMEZONE:America/New_York
BEGIN:VTIMEZONE
TZID:America/New_York
BEGIN:STANDARD
TZNAME:EST
DTSTART:20221106T020000
TZOFFSETFROM:-0400
TZOFFSETTO:-0500
RDATE:20231105T020000
END:STANDARD
BEGIN:DAYLIGHT
TZNAME:EDT
DTSTART:20220313T020000
TZOFFSETFROM:-0500
TZOFFSETTO:-0400
RDATE:20230312T020000
RDATE:20240310T020000
END:DAYLIGHT
END:VTIMEZONE
BEGIN:VEVENT
UID:59a7b00b-2cae-44f3-bb36-ac0144ce4f75
DTSTAMP:20260420T082310Z
DESCRIPTION:Join the National Women's History Alliance for a virtual celebr
 ation of the the diversity and power of Black women\, and the legacy they 
 are leaving for generations to come.
DTSTART;TZID=America/New_York:20230207T200000
DTEND;TZID=America/New_York:20230207T210000
LOCATION:
SUMMARY:Celebrating the Power of Black Women
END:VEVENT
END:VCALENDAR
