BEGIN:VCALENDAR
VERSION:2.0
PRODID:-//www.inreachinc.org//NONSGML kigkonsult.se iCalcreator 2.30.10//
CALSCALE:GREGORIAN
METHOD:PUBLISH
UID:4848248a-3fd7-49f7-a80b-a6fcf2c16731
X-WR-CALDESC:FREE panels available to classrooms\, families and individuals
  to encourage building strong foundational characteristics in children. Jo
 in this  interactive panel interview of acclaimed authors who have books t
 hat discuss inclusion and differently-abled children.
X-WR-RELCALID:77adf8acca3d5f0d0c85794138a5495d
X-WR-TIMEZONE:America/New_York
BEGIN:VTIMEZONE
TZID:America/New_York
BEGIN:STANDARD
TZNAME:EST
DTSTART:20221106T020000
TZOFFSETFROM:-0400
TZOFFSETTO:-0500
RDATE:20231105T020000
END:STANDARD
BEGIN:DAYLIGHT
TZNAME:EDT
DTSTART:20220313T020000
TZOFFSETFROM:-0500
TZOFFSETTO:-0400
RDATE:20230312T020000
RDATE:20240310T020000
END:DAYLIGHT
END:VTIMEZONE
BEGIN:VEVENT
UID:5e4cf9f9-3a92-4f6b-96ed-80e71e848299
DTSTAMP:20260420T085427Z
DESCRIPTION:FREE panels available to classrooms\, families and individuals 
 to encourage building strong foundational characteristics in children. Joi
 n this  interactive panel interview of acclaimed authors who have books th
 at discuss inclusion and differently-abled children.
DTSTART;TZID=America/New_York:20230308T130000
DTEND;TZID=America/New_York:20230308T140000
LOCATION:
SUMMARY:Picture Books that Empower!
END:VEVENT
END:VCALENDAR
