BEGIN:VCALENDAR
VERSION:2.0
PRODID:-//www.inreachinc.org//NONSGML kigkonsult.se iCalcreator 2.30.10//
CALSCALE:GREGORIAN
METHOD:PUBLISH
UID:32adcabf-c36f-4df7-854f-ab5e09576f87
X-WR-CALDESC:During this International Literacy Day\, support In Reach by g
 iving $50 to bring joy and book ownership - the gift that keeps on giving 
 - to a reader. Learn more about our initiatives to Spark Reading and ignit
 e the imagination while celebrating the 2023 theme 'promoting literacy for
  a world in transition: building the foundation for sustainable and peacef
 ul societies.'
X-WR-RELCALID:aa06afeb3123cbea28c3ab70e166437e
X-WR-TIMEZONE:America/New_York
BEGIN:VTIMEZONE
TZID:America/New_York
BEGIN:STANDARD
TZNAME:EST
DTSTART:20221106T020000
TZOFFSETFROM:-0400
TZOFFSETTO:-0500
RDATE:20231105T020000
RDATE:20241103T020000
END:STANDARD
BEGIN:DAYLIGHT
TZNAME:EDT
DTSTART:20230312T020000
TZOFFSETFROM:-0500
TZOFFSETTO:-0400
RDATE:20240310T020000
RDATE:20250309T020000
END:DAYLIGHT
END:VTIMEZONE
BEGIN:VEVENT
UID:7ad39974-f48c-42a4-9600-bb880a24f143
DTSTAMP:20260419T210909Z
DESCRIPTION:During this International Literacy Day\, support In Reach by gi
 ving $50 to bring joy and book ownership - the gift that keeps on giving -
  to a reader. Learn more about our initiatives to Spark Reading and ignite
  the imagination while celebrating the 2023 theme 'promoting literacy for 
 a world in transition: building the foundation for sustainable and peacefu
 l societies.'
DTSTART;TZID=America/New_York:20230908T000000
DTEND;TZID=America/New_York:20230908T235900
LOCATION:
SUMMARY:International Literacy Day
END:VEVENT
END:VCALENDAR
