BEGIN:VCALENDAR
VERSION:2.0
PRODID:-//www.inreachinc.org//NONSGML kigkonsult.se iCalcreator 2.30.10//
CALSCALE:GREGORIAN
METHOD:PUBLISH
UID:0202321a-3405-438f-a36d-62a362621204
X-WR-CALDESC:
X-WR-RELCALID:be238072472e5906242007612516534d
X-WR-TIMEZONE:America/New_York
BEGIN:VTIMEZONE
TZID:America/New_York
BEGIN:STANDARD
TZNAME:EST
DTSTART:20231105T020000
TZOFFSETFROM:-0400
TZOFFSETTO:-0500
RDATE:20241103T020000
END:STANDARD
BEGIN:DAYLIGHT
TZNAME:EDT
DTSTART:20230312T020000
TZOFFSETFROM:-0500
TZOFFSETTO:-0400
RDATE:20240310T020000
RDATE:20250309T020000
END:DAYLIGHT
END:VTIMEZONE
BEGIN:VEVENT
UID:f14dc0ff-d280-46db-881e-404432f284c9
DTSTAMP:20260423T012545Z
DESCRIPTION:
DTSTART;TZID=America/New_York:20231113T090000
DTEND;TZID=America/New_York:20231117T170000
LOCATION:
SUMMARY:National Apprenticeship Week
END:VEVENT
END:VCALENDAR
