BEGIN:VCALENDAR
VERSION:2.0
PRODID:-//www.inreachinc.org//NONSGML kigkonsult.se iCalcreator 2.30.10//
CALSCALE:GREGORIAN
METHOD:PUBLISH
UID:2608401f-c635-4ef1-8d14-01c48512f4da
X-WR-CALDESC:3FP: CREDIT SENSE WORKSHOP\nPresented by: Le'Shonda Shouff\, I
 ntegrity Home Mortgage Corporation\n\nWhy Credit Sense? Understanding your
  credit is a crucial step towards financial empowerment. Whether you're pl
 anning major purchases\, aiming to improve your credit score\, or simply w
 ant to navigate the world of credit with confidence\, Credit Sense is desi
 gned for you!
X-WR-RELCALID:4dd181730dec8e2c2c99d479b6087815
X-WR-TIMEZONE:America/New_York
BEGIN:VTIMEZONE
TZID:America/New_York
BEGIN:STANDARD
TZNAME:EST
DTSTART:20231105T020000
TZOFFSETFROM:-0400
TZOFFSETTO:-0500
RDATE:20241103T020000
END:STANDARD
BEGIN:DAYLIGHT
TZNAME:EDT
DTSTART:20230312T020000
TZOFFSETFROM:-0500
TZOFFSETTO:-0400
RDATE:20240310T020000
RDATE:20250309T020000
END:DAYLIGHT
END:VTIMEZONE
BEGIN:VEVENT
UID:6b45c1a2-6b38-4b3f-9713-041ca9174e95
DTSTAMP:20260420T230059Z
DESCRIPTION:3FP: CREDIT SENSE WORKSHOP\nPresented by: Le'Shonda Shouff\, In
 tegrity Home Mortgage Corporation\n\nWhy Credit Sense? Understanding your 
 credit is a crucial step towards financial empowerment. Whether you're pla
 nning major purchases\, aiming to improve your credit score\, or simply wa
 nt to navigate the world of credit with confidence\, Credit Sense is desig
 ned for you!
DTSTART;TZID=America/New_York:20231118T100000
DTEND;TZID=America/New_York:20231118T110000
LOCATION:
SUMMARY:Credit Sense Workshop
END:VEVENT
END:VCALENDAR
