BEGIN:VCALENDAR
VERSION:2.0
PRODID:-//www.inreachinc.org//NONSGML kigkonsult.se iCalcreator 2.30.10//
CALSCALE:GREGORIAN
METHOD:PUBLISH
UID:581f7cd7-a398-4522-85ee-c0633e2c9d0c
X-WR-CALDESC:Shop for a Cause This Season. Support In Reach in educating co
 mmunity through its Spark Reading initiatives\, Teens Talk Network and mak
 ing Mental Health Matter collaborations. Purchase one of our long or short
  sleeve t-shirts\, a pullover hoodie\, or one of each.
X-WR-RELCALID:7c6c0aaa4e1908700e26ac6040e3d135
X-WR-TIMEZONE:America/New_York
BEGIN:VTIMEZONE
TZID:America/New_York
BEGIN:STANDARD
TZNAME:EST
DTSTART:20231105T020000
TZOFFSETFROM:-0400
TZOFFSETTO:-0500
RDATE:20241103T020000
END:STANDARD
BEGIN:DAYLIGHT
TZNAME:EDT
DTSTART:20230312T020000
TZOFFSETFROM:-0500
TZOFFSETTO:-0400
RDATE:20240310T020000
RDATE:20250309T020000
END:DAYLIGHT
END:VTIMEZONE
BEGIN:VEVENT
UID:37db8aa1-520d-4e37-afa7-d250abf752e3
DTSTAMP:20260420T091828Z
DESCRIPTION:Shop for a Cause This Season. Support In Reach in educating com
 munity through its Spark Reading initiatives\, Teens Talk Network and maki
 ng Mental Health Matter collaborations. Purchase one of our long or short 
 sleeve t-shirts\, a pullover hoodie\, or one of each.
DTSTART;TZID=America/New_York:20231124T060000
DTEND;TZID=America/New_York:20231124T060001
LOCATION:
SUMMARY:Black Friday
END:VEVENT
END:VCALENDAR
