BEGIN:VCALENDAR
VERSION:2.0
PRODID:-//www.inreachinc.org//NONSGML kigkonsult.se iCalcreator 2.30.10//
CALSCALE:GREGORIAN
METHOD:PUBLISH
UID:f1dd7d46-5157-429f-a839-fdb6f9b86176
X-WR-CALDESC:The best way to celebrate Bad Poetry Day is by writing really 
 bad poetry. Forget perfection and write even a terrible poem. You can even
  write it yourself and gather your friends\, family members to read it out
  loud. Conduct Bad Poetry readings at any public spot preferably to encour
 age people who are bad at writing good poems. Post your bad poetry celebra
 tion pictures and your bad poetry on social media using the hashtag #BadPo
 etryDay or #NationalBadPoetryDay.
X-WR-RELCALID:9241f04e660a4c08723b1959f5260a2a
X-WR-TIMEZONE:America/New_York
BEGIN:VTIMEZONE
TZID:America/New_York
BEGIN:STANDARD
TZNAME:EST
DTSTART:20241103T020000
TZOFFSETFROM:-0400
TZOFFSETTO:-0500
RDATE:20251102T020000
RDATE:20261101T020000
END:STANDARD
BEGIN:DAYLIGHT
TZNAME:EDT
DTSTART:20250309T020000
TZOFFSETFROM:-0500
TZOFFSETTO:-0400
RDATE:20260308T020000
END:DAYLIGHT
END:VTIMEZONE
BEGIN:VEVENT
UID:e2f88cc3-9143-4e4b-bc0d-795d61a4f896
DTSTAMP:20260419T145132Z
DESCRIPTION:The best way to celebrate Bad Poetry Day is by writing really b
 ad poetry. Forget perfection and write even a terrible poem. You can even 
 write it yourself and gather your friends\, family members to read it out 
 loud. Conduct Bad Poetry readings at any public spot preferably to encoura
 ge people who are bad at writing good poems. Post your bad poetry celebrat
 ion pictures and your bad poetry on social media using the hashtag #BadPoe
 tryDay or #NationalBadPoetryDay.
DTSTART;TZID=America/New_York:20250818T000000
DTEND;TZID=America/New_York:20250818T235900
LOCATION:
SUMMARY:National Bad Poetry Day
END:VEVENT
END:VCALENDAR
