BEGIN:VCALENDAR
VERSION:2.0
PRODID:-//www.inreachinc.org//NONSGML kigkonsult.se iCalcreator 2.30.10//
CALSCALE:GREGORIAN
METHOD:PUBLISH
UID:aa528cc5-855f-450a-91e0-a802d272685a
X-WR-CALDESC:National Voter Education Week (NVEW) is an open-source\, nonpa
 rtisan voter education campaign. During this week of interactive education
 \, voters have the opportunity to find their polling location\, understand
  their ballot\, make a plan to vote\, and inspire others to get involved. 
 Let's work together to help family\, friends\, co-workers\, and others in 
 our circles overcome their barriers to become confident voters and ambassa
 dors of voting in their communities for every election.
X-WR-RELCALID:da30f5ac543187b18b2d5ae1a8c83c8c
X-WR-TIMEZONE:America/New_York
BEGIN:VTIMEZONE
TZID:America/New_York
BEGIN:STANDARD
TZNAME:EST
DTSTART:20241103T020000
TZOFFSETFROM:-0400
TZOFFSETTO:-0500
RDATE:20251102T020000
RDATE:20261101T020000
END:STANDARD
BEGIN:DAYLIGHT
TZNAME:EDT
DTSTART:20250309T020000
TZOFFSETFROM:-0500
TZOFFSETTO:-0400
RDATE:20260308T020000
RDATE:20270314T020000
END:DAYLIGHT
END:VTIMEZONE
BEGIN:VEVENT
UID:8ff1eadb-89bd-4559-b8f3-987c47f59354
DTSTAMP:20260421T112412Z
DESCRIPTION:National Voter Education Week (NVEW) is an open-source\, nonpar
 tisan voter education campaign. During this week of interactive education\
 , voters have the opportunity to find their polling location\, understand 
 their ballot\, make a plan to vote\, and inspire others to get involved. L
 et's work together to help family\, friends\, co-workers\, and others in o
 ur circles overcome their barriers to become confident voters and ambassad
 ors of voting in their communities for every election.
DTSTART;TZID=America/New_York:20251007T000000
DTEND;TZID=America/New_York:20251011T235900
LOCATION:
SUMMARY:National Voter Education Week
END:VEVENT
END:VCALENDAR
